BEGIN:VCALENDAR
VERSION:2.0
PRODID:-//Om Sat Avgat - ECPv6.15.11//NONSGML v1.0//EN
CALSCALE:GREGORIAN
METHOD:PUBLISH
X-ORIGINAL-URL:https://omsatavgat.com
X-WR-CALDESC:Events for Om Sat Avgat
REFRESH-INTERVAL;VALUE=DURATION:PT1H
X-Robots-Tag:noindex
X-PUBLISHED-TTL:PT1H
BEGIN:VTIMEZONE
TZID:UTC
BEGIN:STANDARD
TZOFFSETFROM:+0000
TZOFFSETTO:+0000
TZNAME:UTC
DTSTART:20220101T000000
END:STANDARD
END:VTIMEZONE
BEGIN:VEVENT
DTSTART;TZID=UTC:20231231T100000
DTEND;TZID=UTC:20231231T170000
DTSTAMP:20260423T121413
CREATED:20200428T133115Z
LAST-MODIFIED:20231222T071752Z
UID:1204-1704016800-1704042000@omsatavgat.com
SUMMARY:विशाल सत्संग एवं साध की रसोई - दिल्ली
DESCRIPTION:ॐ सत अवगत \nसंत दरश को चालिए\, तज माया अभिमान ।\nज्यो ज्यो पग आगे धरें\, कोटिन यज्ञ समान ।। \nसतगुरु बाबा उमेशदास जी साहिब की असीम कृपा से आप कार्यक्रमानुसार सपरिवार पधार कर बाबाजी साहिब से शुभाशीर्वाद प्राप्त कर हमें अनुग्रहित करें। \nमांगलिक कार्यक्रम🥁 \n\nरविवार 31 दिसम्बर 2023\nसाध मिलाप प्रातः 10:00 AM\nसत्संग प्रातः 11:00 बजे\nभोजन प्रसाद दोपहर 1:00pm\n\n🙏🏻 निवेदक\nप्रह्लाद शरन शर्मा एवम् समस्त परिवार \n🏬 कार्यक्रम का स्थान 🏬 \nAddress : Le Diamond\, Block C\, Yamuna Vihar\, Delhi 110053\nMo +919873568535* +919811068535\, +919811797000 \nसत साहिब
URL:https://omsatavgat.com/event/vishal-satsang-and-sadh-ki-rasoi-program-in-delhi/
LOCATION:Delhi\, Le Diamond\, Block C\, Yamuna Vihar\, Delhi\, Delhi\, New Delhi\, 110053\, India
CATEGORIES:Sadh ki Rasoi
ATTACH;FMTTYPE=image/jpeg:https://omsatavgat.com/wp-content/uploads/2020/04/sadguru.jpg
END:VEVENT
END:VCALENDAR